BEGIN:VCALENDAR
VERSION:2.0
PRODID:-//Treetop Quest - ECPv6.10.1//NONSGML v1.0//EN
CALSCALE:GREGORIAN
METHOD:PUBLISH
X-ORIGINAL-URL:https://www.treetopquest.com
X-WR-CALDESC:Events for Treetop Quest
REFRESH-INTERVAL;VALUE=DURATION:PT1H
X-Robots-Tag:noindex
X-PUBLISHED-TTL:PT1H
BEGIN:VTIMEZONE
TZID:America/New_York
BEGIN:DAYLIGHT
TZOFFSETFROM:-0500
TZOFFSETTO:-0400
TZNAME:EDT
DTSTART:20250309T070000
END:DAYLIGHT
BEGIN:STANDARD
TZOFFSETFROM:-0400
TZOFFSETTO:-0500
TZNAME:EST
DTSTART:20251102T060000
END:STANDARD
END:VTIMEZONE
BEGIN:VEVENT
DTSTART;TZID=America/New_York:20250426T100000
DTEND;TZID=America/New_York:20250426T180000
DTSTAMP:20260421T045536
CREATED:20250214T184249Z
LAST-MODIFIED:20250403T034249Z
UID:2589-1745661600-1745690400@www.treetopquest.com
SUMMARY:Philly Open
DESCRIPTION:
URL:https://www.treetopquest.com/event/philly-04-26-2025/
LOCATION:Treetop Philly\, 51 Chamounix Drive\, Philadelphia\, 19131\, United States
END:VEVENT
BEGIN:VEVENT
DTSTART;TZID=America/New_York:20250426T100000
DTEND;TZID=America/New_York:20250426T183000
DTSTAMP:20260421T045536
CREATED:20250214T174655Z
LAST-MODIFIED:20250403T034333Z
UID:2554-1745661600-1745692200@www.treetopquest.com
SUMMARY:Dunwoody Open
DESCRIPTION:
URL:https://www.treetopquest.com/event/dunwoody-04-26-2025/
LOCATION:Treetop Quest Dunwoody\, 2341 Peeler Road\, Dunwoody\, GA\, 30338\, United States
END:VEVENT
BEGIN:VEVENT
DTSTART;TZID=America/New_York:20250426T100000
DTEND;TZID=America/New_York:20250426T183000
DTSTAMP:20260421T045536
CREATED:20250214T182531Z
LAST-MODIFIED:20250403T034422Z
UID:2574-1745661600-1745692200@www.treetopquest.com
SUMMARY:Gwinnett Open
DESCRIPTION:
URL:https://www.treetopquest.com/event/gwinnett-04-26-2025/
LOCATION:Treetop Gwinnett\, 2020 Clean Water Dr\, Buford\, 30519\, United States
END:VEVENT
BEGIN:VEVENT
DTSTART;TZID=America/New_York:20250426T180000
DTEND;TZID=America/New_York:20250426T220000
DTSTAMP:20260421T045536
CREATED:20250214T175924Z
LAST-MODIFIED:20250404T202255Z
UID:2557-1745690400-1745704800@www.treetopquest.com
SUMMARY:⭐️Dunwoody Glow in the Park
DESCRIPTION:
URL:https://www.treetopquest.com/event/dunwoody-glow-in-the-park-04-26-2025/
LOCATION:Treetop Quest Dunwoody\, 2341 Peeler Road\, Dunwoody\, GA\, 30338\, United States
END:VEVENT
BEGIN:VEVENT
DTSTART;TZID=America/New_York:20250426T180000
DTEND;TZID=America/New_York:20250426T220000
DTSTAMP:20260421T045536
CREATED:20250214T182930Z
LAST-MODIFIED:20250404T202239Z
UID:2577-1745690400-1745704800@www.treetopquest.com
SUMMARY:⭐️Gwinnett Glow in the Park
DESCRIPTION:
URL:https://www.treetopquest.com/event/gwinnett-glow-in-the-park-04-26-2025/
LOCATION:Treetop Gwinnett\, 2020 Clean Water Dr\, Buford\, 30519\, United States
END:VEVENT
BEGIN:VEVENT
DTSTART;TZID=America/New_York:20250427T100000
DTEND;TZID=America/New_York:20250427T180000
DTSTAMP:20260421T045536
CREATED:20250214T184318Z
LAST-MODIFIED:20250403T034718Z
UID:2590-1745748000-1745776800@www.treetopquest.com
SUMMARY:Philly Open
DESCRIPTION:
URL:https://www.treetopquest.com/event/philly-04-27-2025/
LOCATION:Treetop Philly\, 51 Chamounix Drive\, Philadelphia\, 19131\, United States
END:VEVENT
BEGIN:VEVENT
DTSTART;TZID=America/New_York:20250427T100000
DTEND;TZID=America/New_York:20250427T183000
DTSTAMP:20260421T045536
CREATED:20250214T174922Z
LAST-MODIFIED:20250403T034806Z
UID:2555-1745748000-1745778600@www.treetopquest.com
SUMMARY:Dunwoody Open
DESCRIPTION:
URL:https://www.treetopquest.com/event/dunwoody-04-27-2025/
LOCATION:Treetop Quest Dunwoody\, 2341 Peeler Road\, Dunwoody\, GA\, 30338\, United States
END:VEVENT
BEGIN:VEVENT
DTSTART;TZID=America/New_York:20250427T100000
DTEND;TZID=America/New_York:20250427T183000
DTSTAMP:20260421T045536
CREATED:20250214T182604Z
LAST-MODIFIED:20250403T034853Z
UID:2575-1745748000-1745778600@www.treetopquest.com
SUMMARY:Gwinnett Open
DESCRIPTION:
URL:https://www.treetopquest.com/event/gwinnett-04-27-2025/
LOCATION:Treetop Gwinnett\, 2020 Clean Water Dr\, Buford\, 30519\, United States
END:VEVENT
BEGIN:VEVENT
DTSTART;TZID=America/New_York:20250502T120000
DTEND;TZID=America/New_York:20250502T180000
DTSTAMP:20260421T045536
CREATED:20250227T184907Z
LAST-MODIFIED:20250403T164122Z
UID:2650-1746187200-1746208800@www.treetopquest.com
SUMMARY:Philly Open
DESCRIPTION:
URL:https://www.treetopquest.com/event/philly-05-02-2025/
LOCATION:Treetop Philly\, 51 Chamounix Drive\, Philadelphia\, 19131\, United States
END:VEVENT
BEGIN:VEVENT
DTSTART;TZID=America/New_York:20250502T120000
DTEND;TZID=America/New_York:20250502T190000
DTSTAMP:20260421T045536
CREATED:20250227T170247Z
LAST-MODIFIED:20250403T164226Z
UID:2608-1746187200-1746212400@www.treetopquest.com
SUMMARY:Gwinnett Open
DESCRIPTION:
URL:https://www.treetopquest.com/event/gwinnett-05-02-2025/
LOCATION:Treetop Gwinnett\, 2020 Clean Water Dr\, Buford\, 30519\, United States
END:VEVENT
BEGIN:VEVENT
DTSTART;TZID=America/New_York:20250502T120000
DTEND;TZID=America/New_York:20250502T190000
DTSTAMP:20260421T045536
CREATED:20250415T065915Z
LAST-MODIFIED:20250415T070457Z
UID:3099-1746187200-1746212400@www.treetopquest.com
SUMMARY:Dunwoody Open
DESCRIPTION:
URL:https://www.treetopquest.com/event/dunwoody-05-02-2025/
LOCATION:Treetop Quest Dunwoody\, 2341 Peeler Road\, Dunwoody\, GA\, 30338\, United States
END:VEVENT
BEGIN:VEVENT
DTSTART;TZID=America/New_York:20250503T100000
DTEND;TZID=America/New_York:20250503T180000
DTSTAMP:20260421T045536
CREATED:20250227T185443Z
LAST-MODIFIED:20250403T164904Z
UID:2651-1746266400-1746295200@www.treetopquest.com
SUMMARY:Philly Open
DESCRIPTION:
URL:https://www.treetopquest.com/event/philly-05-03-2025/
LOCATION:Treetop Philly\, 51 Chamounix Drive\, Philadelphia\, 19131\, United States
END:VEVENT
BEGIN:VEVENT
DTSTART;TZID=America/New_York:20250503T100000
DTEND;TZID=America/New_York:20250503T183000
DTSTAMP:20260421T045536
CREATED:20250227T171332Z
LAST-MODIFIED:20250403T165132Z
UID:2609-1746266400-1746297000@www.treetopquest.com
SUMMARY:Gwinnett Open
DESCRIPTION:
URL:https://www.treetopquest.com/event/gwinnett-05-03-2025/
LOCATION:Treetop Gwinnett\, 2020 Clean Water Dr\, Buford\, 30519\, United States
END:VEVENT
BEGIN:VEVENT
DTSTART;TZID=America/New_York:20250503T100000
DTEND;TZID=America/New_York:20250503T183000
DTSTAMP:20260421T045536
CREATED:20250227T175934Z
LAST-MODIFIED:20250403T165218Z
UID:2629-1746266400-1746297000@www.treetopquest.com
SUMMARY:Dunwoody Open
DESCRIPTION:
URL:https://www.treetopquest.com/event/dunwoody-05-03-2025/
LOCATION:Treetop Quest Dunwoody\, 2341 Peeler Road\, Dunwoody\, GA\, 30338\, United States
END:VEVENT
BEGIN:VEVENT
DTSTART;TZID=America/New_York:20250503T180000
DTEND;TZID=America/New_York:20250503T220000
DTSTAMP:20260421T045536
CREATED:20250227T180304Z
LAST-MODIFIED:20250404T202216Z
UID:2632-1746295200-1746309600@www.treetopquest.com
SUMMARY:⭐️Dunwoody Glow in the Park
DESCRIPTION:
URL:https://www.treetopquest.com/event/%e2%ad%90%ef%b8%8fdunwoody-glow-in-the-park-05-03-2025/
LOCATION:Treetop Quest Dunwoody\, 2341 Peeler Road\, Dunwoody\, GA\, 30338\, United States
END:VEVENT
BEGIN:VEVENT
DTSTART;TZID=America/New_York:20250504T100000
DTEND;TZID=America/New_York:20250504T180000
DTSTAMP:20260421T045536
CREATED:20250227T185659Z
LAST-MODIFIED:20250403T165355Z
UID:2652-1746352800-1746381600@www.treetopquest.com
SUMMARY:Philly Open
DESCRIPTION:
URL:https://www.treetopquest.com/event/philly-05-04-2025/
LOCATION:Treetop Philly\, 51 Chamounix Drive\, Philadelphia\, 19131\, United States
END:VEVENT
BEGIN:VEVENT
DTSTART;TZID=America/New_York:20250504T100000
DTEND;TZID=America/New_York:20250504T183000
DTSTAMP:20260421T045536
CREATED:20250227T171638Z
LAST-MODIFIED:20250403T165435Z
UID:2610-1746352800-1746383400@www.treetopquest.com
SUMMARY:Gwinnett Open
DESCRIPTION:
URL:https://www.treetopquest.com/event/gwinnett-05-04-2025/
LOCATION:Treetop Gwinnett\, 2020 Clean Water Dr\, Buford\, 30519\, United States
END:VEVENT
BEGIN:VEVENT
DTSTART;TZID=America/New_York:20250504T100000
DTEND;TZID=America/New_York:20250504T183000
DTSTAMP:20260421T045536
CREATED:20250227T180029Z
LAST-MODIFIED:20250403T165518Z
UID:2630-1746352800-1746383400@www.treetopquest.com
SUMMARY:Dunwoody Open
DESCRIPTION:
URL:https://www.treetopquest.com/event/dunwoody-05-04-2025/
LOCATION:Treetop Quest Dunwoody\, 2341 Peeler Road\, Dunwoody\, GA\, 30338\, United States
END:VEVENT
BEGIN:VEVENT
DTSTART;TZID=America/New_York:20250509T120000
DTEND;TZID=America/New_York:20250509T180000
DTSTAMP:20260421T045536
CREATED:20250227T185844Z
LAST-MODIFIED:20250403T165601Z
UID:2653-1746792000-1746813600@www.treetopquest.com
SUMMARY:Philly Open
DESCRIPTION:
URL:https://www.treetopquest.com/event/philly-05-09-2025/
LOCATION:Treetop Philly\, 51 Chamounix Drive\, Philadelphia\, 19131\, United States
END:VEVENT
BEGIN:VEVENT
DTSTART;TZID=America/New_York:20250509T120000
DTEND;TZID=America/New_York:20250509T190000
DTSTAMP:20260421T045536
CREATED:20250227T172304Z
LAST-MODIFIED:20250403T165644Z
UID:2611-1746792000-1746817200@www.treetopquest.com
SUMMARY:Gwinnett Open
DESCRIPTION:
URL:https://www.treetopquest.com/event/gwinnett-05-09-2025/
LOCATION:Treetop Gwinnett\, 2020 Clean Water Dr\, Buford\, 30519\, United States
END:VEVENT
BEGIN:VEVENT
DTSTART;TZID=America/New_York:20250509T120000
DTEND;TZID=America/New_York:20250509T190000
DTSTAMP:20260421T045536
CREATED:20250227T180126Z
LAST-MODIFIED:20250403T165727Z
UID:2631-1746792000-1746817200@www.treetopquest.com
SUMMARY:Dunwoody Open
DESCRIPTION:
URL:https://www.treetopquest.com/event/dunwoody-05-09-2025/
LOCATION:Treetop Quest Dunwoody\, 2341 Peeler Road\, Dunwoody\, GA\, 30338\, United States
END:VEVENT
BEGIN:VEVENT
DTSTART;TZID=America/New_York:20250510T100000
DTEND;TZID=America/New_York:20250510T180000
DTSTAMP:20260421T045536
CREATED:20250227T190029Z
LAST-MODIFIED:20250403T165811Z
UID:2654-1746871200-1746900000@www.treetopquest.com
SUMMARY:Philly Open
DESCRIPTION:
URL:https://www.treetopquest.com/event/philly-05-10-2025/
LOCATION:Treetop Philly\, 51 Chamounix Drive\, Philadelphia\, 19131\, United States
END:VEVENT
BEGIN:VEVENT
DTSTART;TZID=America/New_York:20250510T100000
DTEND;TZID=America/New_York:20250510T183000
DTSTAMP:20260421T045536
CREATED:20250227T172407Z
LAST-MODIFIED:20250403T165850Z
UID:2612-1746871200-1746901800@www.treetopquest.com
SUMMARY:Gwinnett Open
DESCRIPTION:
URL:https://www.treetopquest.com/event/gwinnett-05-10-2025/
LOCATION:Treetop Gwinnett\, 2020 Clean Water Dr\, Buford\, 30519\, United States
END:VEVENT
BEGIN:VEVENT
DTSTART;TZID=America/New_York:20250510T100000
DTEND;TZID=America/New_York:20250510T183000
DTSTAMP:20260421T045536
CREATED:20250227T180518Z
LAST-MODIFIED:20250403T170055Z
UID:2633-1746871200-1746901800@www.treetopquest.com
SUMMARY:Dunwoody Open
DESCRIPTION:
URL:https://www.treetopquest.com/event/dunwoody-05-10-2025/
LOCATION:Treetop Quest Dunwoody\, 2341 Peeler Road\, Dunwoody\, GA\, 30338\, United States
END:VEVENT
BEGIN:VEVENT
DTSTART;TZID=America/New_York:20250510T180000
DTEND;TZID=America/New_York:20250510T220000
DTSTAMP:20260421T045536
CREATED:20250227T173048Z
LAST-MODIFIED:20250404T202144Z
UID:2613-1746900000-1746914400@www.treetopquest.com
SUMMARY:⭐️Gwinnett Glow in the Park
DESCRIPTION:
URL:https://www.treetopquest.com/event/%e2%ad%90%ef%b8%8fgwinnett-glow-in-the-park-05-10-2025/
LOCATION:Treetop Gwinnett\, 2020 Clean Water Dr\, Buford\, 30519\, United States
END:VEVENT
BEGIN:VEVENT
DTSTART;TZID=America/New_York:20250511T100000
DTEND;TZID=America/New_York:20250511T180000
DTSTAMP:20260421T045536
CREATED:20250227T190213Z
LAST-MODIFIED:20250403T170310Z
UID:2655-1746957600-1746986400@www.treetopquest.com
SUMMARY:Philly Open
DESCRIPTION:
URL:https://www.treetopquest.com/event/philly-05-11-2025/
LOCATION:Treetop Philly\, 51 Chamounix Drive\, Philadelphia\, 19131\, United States
END:VEVENT
BEGIN:VEVENT
DTSTART;TZID=America/New_York:20250511T100000
DTEND;TZID=America/New_York:20250511T183000
DTSTAMP:20260421T045536
CREATED:20250227T174108Z
LAST-MODIFIED:20250403T170353Z
UID:2614-1746957600-1746988200@www.treetopquest.com
SUMMARY:Gwinnett Open
DESCRIPTION:
URL:https://www.treetopquest.com/event/gwinnett-05-11-2025/
LOCATION:Treetop Gwinnett\, 2020 Clean Water Dr\, Buford\, 30519\, United States
END:VEVENT
BEGIN:VEVENT
DTSTART;TZID=America/New_York:20250511T100000
DTEND;TZID=America/New_York:20250511T183000
DTSTAMP:20260421T045536
CREATED:20250227T180955Z
LAST-MODIFIED:20250403T170435Z
UID:2634-1746957600-1746988200@www.treetopquest.com
SUMMARY:Dunwoody Open
DESCRIPTION:
URL:https://www.treetopquest.com/event/dunwoody-05-11-2025/
LOCATION:Treetop Quest Dunwoody\, 2341 Peeler Road\, Dunwoody\, GA\, 30338\, United States
END:VEVENT
BEGIN:VEVENT
DTSTART;TZID=America/New_York:20250516T120000
DTEND;TZID=America/New_York:20250516T180000
DTSTAMP:20260421T045536
CREATED:20250227T190500Z
LAST-MODIFIED:20250403T170539Z
UID:2656-1747396800-1747418400@www.treetopquest.com
SUMMARY:Philly Open
DESCRIPTION:
URL:https://www.treetopquest.com/event/philly-05-16-2025/
LOCATION:Treetop Philly\, 51 Chamounix Drive\, Philadelphia\, 19131\, United States
END:VEVENT
BEGIN:VEVENT
DTSTART;TZID=America/New_York:20250516T120000
DTEND;TZID=America/New_York:20250516T190000
DTSTAMP:20260421T045536
CREATED:20250227T174222Z
LAST-MODIFIED:20250403T170622Z
UID:2615-1747396800-1747422000@www.treetopquest.com
SUMMARY:Gwinnett Open
DESCRIPTION:
URL:https://www.treetopquest.com/event/gwinnett-05-16-2025/
LOCATION:Treetop Gwinnett\, 2020 Clean Water Dr\, Buford\, 30519\, United States
END:VEVENT
END:VCALENDAR