BEGIN:VCALENDAR
VERSION:2.0
PRODID:-//Treetop Quest - ECPv6.10.1//NONSGML v1.0//EN
CALSCALE:GREGORIAN
METHOD:PUBLISH
X-ORIGINAL-URL:https://www.treetopquest.com
X-WR-CALDESC:Events for Treetop Quest
REFRESH-INTERVAL;VALUE=DURATION:PT1H
X-Robots-Tag:noindex
X-PUBLISHED-TTL:PT1H
BEGIN:VTIMEZONE
TZID:America/New_York
BEGIN:DAYLIGHT
TZOFFSETFROM:-0500
TZOFFSETTO:-0400
TZNAME:EDT
DTSTART:20250309T070000
END:DAYLIGHT
BEGIN:STANDARD
TZOFFSETFROM:-0400
TZOFFSETTO:-0500
TZNAME:EST
DTSTART:20251102T060000
END:STANDARD
END:VTIMEZONE
BEGIN:VEVENT
DTSTART;TZID=America/New_York:20250329T120000
DTEND;TZID=America/New_York:20250329T180000
DTSTAMP:20260421T063549
CREATED:20250212T190705Z
LAST-MODIFIED:20250212T190705Z
UID:2530-1743249600-1743271200@www.treetopquest.com
SUMMARY:Gwinnett Open
DESCRIPTION:
URL:https://www.treetopquest.com/event/gwinnett-open-12/
LOCATION:Treetop Gwinnett\, 2020 Clean Water Dr\, Buford\, 30519\, United States
END:VEVENT
BEGIN:VEVENT
DTSTART;TZID=America/New_York:20250329T120000
DTEND;TZID=America/New_York:20250329T180000
DTSTAMP:20260421T063549
CREATED:20250212T192658Z
LAST-MODIFIED:20250219T202245Z
UID:2536-1743249600-1743271200@www.treetopquest.com
SUMMARY:Philly Open
DESCRIPTION:
URL:https://www.treetopquest.com/event/philly-open-2/
LOCATION:Treetop Philly\, 51 Chamounix Drive\, Philadelphia\, 19131\, United States
END:VEVENT
BEGIN:VEVENT
DTSTART;TZID=America/New_York:20250329T193000
DTEND;TZID=America/New_York:20250329T233000
DTSTAMP:20260421T063549
CREATED:20250212T190754Z
LAST-MODIFIED:20250227T173805Z
UID:2531-1743276600-1743291000@www.treetopquest.com
SUMMARY:⭐️Gwinnett Glow in the Park
DESCRIPTION:
URL:https://www.treetopquest.com/event/gwinnett-glow-in-the-park-copy/
LOCATION:Treetop Gwinnett\, 2020 Clean Water Dr\, Buford\, 30519\, United States
END:VEVENT
BEGIN:VEVENT
DTSTART;TZID=America/New_York:20250330T120000
DTEND;TZID=America/New_York:20250330T180000
DTSTAMP:20260421T063549
CREATED:20250212T181343Z
LAST-MODIFIED:20250212T181343Z
UID:2513-1743336000-1743357600@www.treetopquest.com
SUMMARY:Dunwoody Open
DESCRIPTION:
URL:https://www.treetopquest.com/event/dunwoody-open-11/
LOCATION:Treetop Quest Dunwoody\, 2341 Peeler Road\, Dunwoody\, GA\, 30338\, United States
END:VEVENT
BEGIN:VEVENT
DTSTART;TZID=America/New_York:20250330T120000
DTEND;TZID=America/New_York:20250330T180000
DTSTAMP:20260421T063549
CREATED:20250212T190852Z
LAST-MODIFIED:20250212T190852Z
UID:2532-1743336000-1743357600@www.treetopquest.com
SUMMARY:Gwinnett Open
DESCRIPTION:
URL:https://www.treetopquest.com/event/gwinnett-open-13/
LOCATION:Treetop Gwinnett\, 2020 Clean Water Dr\, Buford\, 30519\, United States
END:VEVENT
BEGIN:VEVENT
DTSTART;TZID=America/New_York:20250330T120000
DTEND;TZID=America/New_York:20250330T180000
DTSTAMP:20260421T063549
CREATED:20250212T192730Z
LAST-MODIFIED:20250219T202126Z
UID:2537-1743336000-1743357600@www.treetopquest.com
SUMMARY:Philly Open
DESCRIPTION:
URL:https://www.treetopquest.com/event/philly-open-3/
LOCATION:Treetop Philly\, 51 Chamounix Drive\, Philadelphia\, 19131\, United States
END:VEVENT
BEGIN:VEVENT
DTSTART;TZID=America/New_York:20250404T120000
DTEND;TZID=America/New_York:20250404T190000
DTSTAMP:20260421T063549
CREATED:20250214T171026Z
LAST-MODIFIED:20250403T025211Z
UID:2540-1743768000-1743793200@www.treetopquest.com
SUMMARY:Dunwoody Open
DESCRIPTION:
URL:https://www.treetopquest.com/event/dunwoody-04-04-2025/
LOCATION:Treetop Quest Dunwoody\, 2341 Peeler Road\, Dunwoody\, GA\, 30338\, United States
END:VEVENT
BEGIN:VEVENT
DTSTART;TZID=America/New_York:20250404T120000
DTEND;TZID=America/New_York:20250404T190000
DTSTAMP:20260421T063549
CREATED:20250214T180741Z
LAST-MODIFIED:20250403T025448Z
UID:2558-1743768000-1743793200@www.treetopquest.com
SUMMARY:Gwinnett Open
DESCRIPTION:
URL:https://www.treetopquest.com/event/gwinnett-04-04-2025/
LOCATION:Treetop Gwinnett\, 2020 Clean Water Dr\, Buford\, 30519\, United States
END:VEVENT
BEGIN:VEVENT
DTSTART;TZID=America/New_York:20250405T100000
DTEND;TZID=America/New_York:20250405T180000
DTSTAMP:20260421T063549
CREATED:20250214T183230Z
LAST-MODIFIED:20250403T025547Z
UID:2578-1743847200-1743876000@www.treetopquest.com
SUMMARY:Philly Open
DESCRIPTION:
URL:https://www.treetopquest.com/event/philly-04-05-2025/
LOCATION:Treetop Philly\, 51 Chamounix Drive\, Philadelphia\, 19131\, United States
END:VEVENT
BEGIN:VEVENT
DTSTART;TZID=America/New_York:20250405T100000
DTEND;TZID=America/New_York:20250405T183000
DTSTAMP:20260421T063549
CREATED:20250214T171611Z
LAST-MODIFIED:20250403T025935Z
UID:2541-1743847200-1743877800@www.treetopquest.com
SUMMARY:Dunwoody Open
DESCRIPTION:
URL:https://www.treetopquest.com/event/dunwoody-04-05-2025/
LOCATION:Treetop Quest Dunwoody\, 2341 Peeler Road\, Dunwoody\, GA\, 30338\, United States
END:VEVENT
BEGIN:VEVENT
DTSTART;TZID=America/New_York:20250405T100000
DTEND;TZID=America/New_York:20250405T183000
DTSTAMP:20260421T063549
CREATED:20250214T180836Z
LAST-MODIFIED:20250403T030113Z
UID:2559-1743847200-1743877800@www.treetopquest.com
SUMMARY:Gwinnett Open
DESCRIPTION:
URL:https://www.treetopquest.com/event/gwinnett-04-05-2025/
LOCATION:Treetop Gwinnett\, 2020 Clean Water Dr\, Buford\, 30519\, United States
END:VEVENT
BEGIN:VEVENT
DTSTART;TZID=America/New_York:20250406T100000
DTEND;TZID=America/New_York:20250406T180000
DTSTAMP:20260421T063549
CREATED:20250214T183524Z
LAST-MODIFIED:20250403T030230Z
UID:2579-1743933600-1743962400@www.treetopquest.com
SUMMARY:Philly Open
DESCRIPTION:
URL:https://www.treetopquest.com/event/philly-04-06-2025/
LOCATION:Treetop Philly\, 51 Chamounix Drive\, Philadelphia\, 19131\, United States
END:VEVENT
BEGIN:VEVENT
DTSTART;TZID=America/New_York:20250406T100000
DTEND;TZID=America/New_York:20250406T183000
DTSTAMP:20260421T063549
CREATED:20250214T171710Z
LAST-MODIFIED:20250403T030339Z
UID:2542-1743933600-1743964200@www.treetopquest.com
SUMMARY:Dunwoody Open
DESCRIPTION:
URL:https://www.treetopquest.com/event/dunwoody-04-06-2025/
LOCATION:Treetop Quest Dunwoody\, 2341 Peeler Road\, Dunwoody\, GA\, 30338\, United States
END:VEVENT
BEGIN:VEVENT
DTSTART;TZID=America/New_York:20250406T100000
DTEND;TZID=America/New_York:20250406T183000
DTSTAMP:20260421T063549
CREATED:20250214T181029Z
LAST-MODIFIED:20250403T030430Z
UID:2560-1743933600-1743964200@www.treetopquest.com
SUMMARY:Gwinnett Open
DESCRIPTION:
URL:https://www.treetopquest.com/event/gwinnett-04-06-2025/
LOCATION:Treetop Gwinnett\, 2020 Clean Water Dr\, Buford\, 30519\, United States
END:VEVENT
BEGIN:VEVENT
DTSTART;TZID=America/New_York:20250407T100000
DTEND;TZID=America/New_York:20250407T183000
DTSTAMP:20260421T063549
CREATED:20250214T172149Z
LAST-MODIFIED:20250403T030518Z
UID:2543-1744020000-1744050600@www.treetopquest.com
SUMMARY:Dunwoody Open
DESCRIPTION:
URL:https://www.treetopquest.com/event/dunwoody-04-07-2025/
LOCATION:Treetop Quest Dunwoody\, 2341 Peeler Road\, Dunwoody\, GA\, 30338\, United States
END:VEVENT
BEGIN:VEVENT
DTSTART;TZID=America/New_York:20250407T100000
DTEND;TZID=America/New_York:20250407T183000
DTSTAMP:20260421T063549
CREATED:20250214T181104Z
LAST-MODIFIED:20250403T030607Z
UID:2562-1744020000-1744050600@www.treetopquest.com
SUMMARY:Gwinnett Open
DESCRIPTION:
URL:https://www.treetopquest.com/event/gwinnett-04-07-2025/
LOCATION:Treetop Gwinnett\, 2020 Clean Water Dr\, Buford\, 30519\, United States
END:VEVENT
BEGIN:VEVENT
DTSTART;TZID=America/New_York:20250408T100000
DTEND;TZID=America/New_York:20250408T183000
DTSTAMP:20260421T063549
CREATED:20250214T172326Z
LAST-MODIFIED:20250403T030840Z
UID:2544-1744106400-1744137000@www.treetopquest.com
SUMMARY:Dunwoody Open
DESCRIPTION:
URL:https://www.treetopquest.com/event/dunwoody-04-08-2025/
LOCATION:Treetop Quest Dunwoody\, 2341 Peeler Road\, Dunwoody\, GA\, 30338\, United States
END:VEVENT
BEGIN:VEVENT
DTSTART;TZID=America/New_York:20250408T100000
DTEND;TZID=America/New_York:20250408T183000
DTSTAMP:20260421T063549
CREATED:20250214T181153Z
LAST-MODIFIED:20250403T030930Z
UID:2563-1744106400-1744137000@www.treetopquest.com
SUMMARY:Gwinnett Open
DESCRIPTION:
URL:https://www.treetopquest.com/event/gwinnett-04-08-2025/
LOCATION:Treetop Gwinnett\, 2020 Clean Water Dr\, Buford\, 30519\, United States
END:VEVENT
BEGIN:VEVENT
DTSTART;TZID=America/New_York:20250409T100000
DTEND;TZID=America/New_York:20250409T183000
DTSTAMP:20260421T063549
CREATED:20250214T172422Z
LAST-MODIFIED:20250403T031022Z
UID:2545-1744192800-1744223400@www.treetopquest.com
SUMMARY:Dunwoody Open
DESCRIPTION:
URL:https://www.treetopquest.com/event/dunwoody-04-09-2025/
LOCATION:Treetop Quest Dunwoody\, 2341 Peeler Road\, Dunwoody\, GA\, 30338\, United States
END:VEVENT
BEGIN:VEVENT
DTSTART;TZID=America/New_York:20250409T100000
DTEND;TZID=America/New_York:20250409T183000
DTSTAMP:20260421T063549
CREATED:20250214T181309Z
LAST-MODIFIED:20250403T031127Z
UID:2564-1744192800-1744223400@www.treetopquest.com
SUMMARY:Gwinnett Open
DESCRIPTION:
URL:https://www.treetopquest.com/event/gwinnett-04-09-2025/
LOCATION:Treetop Gwinnett\, 2020 Clean Water Dr\, Buford\, 30519\, United States
END:VEVENT
BEGIN:VEVENT
DTSTART;TZID=America/New_York:20250410T100000
DTEND;TZID=America/New_York:20250410T183000
DTSTAMP:20260421T063549
CREATED:20250214T172507Z
LAST-MODIFIED:20250403T031220Z
UID:2546-1744279200-1744309800@www.treetopquest.com
SUMMARY:Dunwoody Open
DESCRIPTION:
URL:https://www.treetopquest.com/event/dunwoody-04-10-2025/
LOCATION:Treetop Quest Dunwoody\, 2341 Peeler Road\, Dunwoody\, GA\, 30338\, United States
END:VEVENT
BEGIN:VEVENT
DTSTART;TZID=America/New_York:20250410T100000
DTEND;TZID=America/New_York:20250410T183000
DTSTAMP:20260421T063549
CREATED:20250214T181345Z
LAST-MODIFIED:20250403T031314Z
UID:2566-1744279200-1744309800@www.treetopquest.com
SUMMARY:Gwinnett Open
DESCRIPTION:
URL:https://www.treetopquest.com/event/gwinnett-04-10-2025/
LOCATION:Treetop Gwinnett\, 2020 Clean Water Dr\, Buford\, 30519\, United States
END:VEVENT
BEGIN:VEVENT
DTSTART;TZID=America/New_York:20250410T180000
DTEND;TZID=America/New_York:20250410T220000
DTSTAMP:20260421T063549
CREATED:20250214T175716Z
LAST-MODIFIED:20250404T202337Z
UID:2556-1744308000-1744322400@www.treetopquest.com
SUMMARY:⭐️Dunwoody Glow in the Park
DESCRIPTION:
URL:https://www.treetopquest.com/event/dunwoody-glow-in-the-park-04-10-2025/
LOCATION:Treetop Quest Dunwoody\, 2341 Peeler Road\, Dunwoody\, GA\, 30338\, United States
END:VEVENT
BEGIN:VEVENT
DTSTART;TZID=America/New_York:20250411T100000
DTEND;TZID=America/New_York:20250411T183000
DTSTAMP:20260421T063549
CREATED:20250214T172836Z
LAST-MODIFIED:20250403T031545Z
UID:2547-1744365600-1744396200@www.treetopquest.com
SUMMARY:Dunwoody Open
DESCRIPTION:
URL:https://www.treetopquest.com/event/dunwoody-04-11-2025/
LOCATION:Treetop Quest Dunwoody\, 2341 Peeler Road\, Dunwoody\, GA\, 30338\, United States
END:VEVENT
BEGIN:VEVENT
DTSTART;TZID=America/New_York:20250411T100000
DTEND;TZID=America/New_York:20250411T183000
DTSTAMP:20260421T063549
CREATED:20250214T181504Z
LAST-MODIFIED:20250403T031634Z
UID:2567-1744365600-1744396200@www.treetopquest.com
SUMMARY:Gwinnett Open
DESCRIPTION:
URL:https://www.treetopquest.com/event/gwinnett-04-11-2025/
LOCATION:Treetop Gwinnett\, 2020 Clean Water Dr\, Buford\, 30519\, United States
END:VEVENT
BEGIN:VEVENT
DTSTART;TZID=America/New_York:20250412T100000
DTEND;TZID=America/New_York:20250412T180000
DTSTAMP:20260421T063549
CREATED:20250214T183634Z
LAST-MODIFIED:20250403T031725Z
UID:2580-1744452000-1744480800@www.treetopquest.com
SUMMARY:Philly Open
DESCRIPTION:
URL:https://www.treetopquest.com/event/philly-04-12-2025/
LOCATION:Treetop Philly\, 51 Chamounix Drive\, Philadelphia\, 19131\, United States
END:VEVENT
BEGIN:VEVENT
DTSTART;TZID=America/New_York:20250412T100000
DTEND;TZID=America/New_York:20250412T183000
DTSTAMP:20260421T063549
CREATED:20250214T172908Z
LAST-MODIFIED:20250403T032445Z
UID:2548-1744452000-1744482600@www.treetopquest.com
SUMMARY:Dunwoody Open
DESCRIPTION:
URL:https://www.treetopquest.com/event/dunwoody-04-12-2025/
LOCATION:Treetop Quest Dunwoody\, 2341 Peeler Road\, Dunwoody\, GA\, 30338\, United States
END:VEVENT
BEGIN:VEVENT
DTSTART;TZID=America/New_York:20250412T100000
DTEND;TZID=America/New_York:20250412T183000
DTSTAMP:20260421T063549
CREATED:20250214T181802Z
LAST-MODIFIED:20250403T032535Z
UID:2568-1744452000-1744482600@www.treetopquest.com
SUMMARY:Gwinnett Open
DESCRIPTION:
URL:https://www.treetopquest.com/event/gwinnett-04-12-2025/
LOCATION:Treetop Gwinnett\, 2020 Clean Water Dr\, Buford\, 30519\, United States
END:VEVENT
BEGIN:VEVENT
DTSTART;TZID=America/New_York:20250412T180000
DTEND;TZID=America/New_York:20250412T220000
DTSTAMP:20260421T063549
CREATED:20250214T182752Z
LAST-MODIFIED:20250404T202319Z
UID:2576-1744480800-1744495200@www.treetopquest.com
SUMMARY:⭐️Gwinnett Glow in the Park
DESCRIPTION:
URL:https://www.treetopquest.com/event/gwinnett-glow-in-the-park-04-12-2025/
LOCATION:Treetop Gwinnett\, 2020 Clean Water Dr\, Buford\, 30519\, United States
END:VEVENT
BEGIN:VEVENT
DTSTART;TZID=America/New_York:20250413T100000
DTEND;TZID=America/New_York:20250413T180000
DTSTAMP:20260421T063549
CREATED:20250214T183712Z
LAST-MODIFIED:20250403T032717Z
UID:2581-1744538400-1744567200@www.treetopquest.com
SUMMARY:Philly Open
DESCRIPTION:
URL:https://www.treetopquest.com/event/philly-04-13-2025/
LOCATION:Treetop Philly\, 51 Chamounix Drive\, Philadelphia\, 19131\, United States
END:VEVENT
END:VCALENDAR